Package: graph Version: 1.85.1 Command: /Library/Frameworks/R.framework/Resources/bin/R CMD check --install=check:graph.install-out.txt --library=/Library/Frameworks/R.framework/Resources/library --no-vignettes --timings graph_1.85.1.tar.gz StartedAt: 2025-02-09 21:07:43 -0500 (Sun, 09 Feb 2025) EndedAt: 2025-02-09 21:08:49 -0500 (Sun, 09 Feb 2025) EllapsedTime: 65.4 seconds RetCode: 1 Status: ERROR CheckDir: graph.Rcheck Warnings: NA