Package: graph Version: 1.85.1 Command: /home/biocbuild/bbs-3.21-bioc/R/bin/R CMD build --keep-empty-dirs --no-resave-data graph StartedAt: 2025-02-12 17:27:19 -0500 (Wed, 12 Feb 2025) EndedAt: 2025-02-12 17:27:48 -0500 (Wed, 12 Feb 2025) EllapsedTime: 29.0 seconds RetCode: 0 Status: OK PackageFile: graph_1.85.1.tar.gz PackageFileSize: 1.429 MiB