Package: graph Version: 1.85.1 Command: /home/biocbuild/bbs-3.21-bioc/R/bin/R CMD INSTALL graph StartedAt: 2025-02-09 15:11:43 -0500 (Sun, 09 Feb 2025) EndedAt: 2025-02-09 15:11:55 -0500 (Sun, 09 Feb 2025) EllapsedTime: 12.1 seconds RetCode: 0 Status: OK