Package: graph Version: 1.85.1 Command: rm -rf graph.buildbin-libdir && mkdir graph.buildbin-libdir && E:\biocbuild\bbs-3.21-bioc\R\bin\R.exe CMD INSTALL --build --library=graph.buildbin-libdir graph_1.85.1.tar.gz StartedAt: 2025-02-10 07:53:10 -0500 (Mon, 10 Feb 2025) EndedAt: 2025-02-10 07:54:33 -0500 (Mon, 10 Feb 2025) EllapsedTime: 82.5 seconds RetCode: 0 Status: OK PackageFile: graph_1.85.1.zip PackageFileSize: 2.069 MiB