Package: graph Version: 1.85.1 Command: chmod a+r graph -R && E:\biocbuild\bbs-3.21-bioc\R\bin\R.exe CMD build --keep-empty-dirs --no-resave-data graph StartedAt: 2025-02-09 19:04:45 -0500 (Sun, 09 Feb 2025) EndedAt: 2025-02-09 19:06:12 -0500 (Sun, 09 Feb 2025) EllapsedTime: 86.6 seconds RetCode: 0 Status: OK PackageFile: graph_1.85.1.tar.gz PackageFileSize: 1.395 MiB