Package: graph Version: 1.85.1 Command: E:\biocbuild\bbs-3.21-bioc\R\bin\R.exe CMD check --no-multiarch --install=check:graph.install-out.txt --library=E:\biocbuild\bbs-3.21-bioc\R\library --no-vignettes --timings graph_1.85.1.tar.gz StartedAt: 2025-02-10 01:43:31 -0500 (Mon, 10 Feb 2025) EndedAt: 2025-02-10 01:44:52 -0500 (Mon, 10 Feb 2025) EllapsedTime: 81.7 seconds RetCode: 1 Status: ERROR CheckDir: graph.Rcheck Warnings: NA