Package: groHMM Version: 1.41.0 Command: /Library/Frameworks/R.framework/Resources/bin/R CMD INSTALL groHMM StartedAt: 2025-02-09 15:08:59 -0500 (Sun, 09 Feb 2025) EndedAt: 2025-02-09 15:08:59 -0500 (Sun, 09 Feb 2025) EllapsedTime: 0.7 seconds RetCode: 1 Status: ERROR