Package: groHMM Version: 1.41.0 Command: /home/biocbuild/R/R/bin/R CMD build --keep-empty-dirs --no-resave-data groHMM StartedAt: 2025-01-28 23:24:15 -0000 (Tue, 28 Jan 2025) EndedAt: 2025-01-28 23:24:18 -0000 (Tue, 28 Jan 2025) EllapsedTime: 3.0 seconds RetCode: 1 Status: ERROR PackageFile: None PackageFileSize: NA