Package: groHMM Version: 1.41.0 Command: /home/biocbuild/R/R/bin/R CMD INSTALL groHMM StartedAt: 2025-01-29 19:50:14 -0000 (Wed, 29 Jan 2025) EndedAt: 2025-01-29 19:50:16 -0000 (Wed, 29 Jan 2025) EllapsedTime: 2.8 seconds RetCode: 1 Status: ERROR