Package: groHMM Version: 1.41.0 Command: /home/biocbuild/bbs-3.21-bioc/R/bin/R CMD build --keep-empty-dirs --no-resave-data groHMM StartedAt: 2025-02-09 17:31:34 -0500 (Sun, 09 Feb 2025) EndedAt: 2025-02-09 17:31:36 -0500 (Sun, 09 Feb 2025) EllapsedTime: 2.0 seconds RetCode: 1 Status: ERROR PackageFile: None PackageFileSize: NA