Package: groHMM Version: 1.41.0 Command: /home/biocbuild/bbs-3.21-bioc/R/bin/R CMD INSTALL groHMM StartedAt: 2025-02-09 15:26:15 -0500 (Sun, 09 Feb 2025) EndedAt: 2025-02-09 15:26:17 -0500 (Sun, 09 Feb 2025) EllapsedTime: 2.2 seconds RetCode: 1 Status: ERROR