Package: groHMM Version: 1.41.0 Command: E:\biocbuild\bbs-3.21-bioc\R\bin\R.exe CMD INSTALL groHMM StartedAt: 2025-02-09 16:22:01 -0500 (Sun, 09 Feb 2025) EndedAt: 2025-02-09 16:22:07 -0500 (Sun, 09 Feb 2025) EllapsedTime: 6.4 seconds RetCode: 1 Status: ERROR