Package: gscreend Version: 1.21.0 Command: rm -rf gscreend.buildbin-libdir && mkdir gscreend.buildbin-libdir && /Users/biocbuild/BBS/utils/build-universal.sh gscreend_1.21.0.tar.gz /Library/Frameworks/R.framework/Resources/bin/R gscreend.buildbin-libdir StartedAt: 2025-02-09 22:16:48 -0500 (Sun, 09 Feb 2025) EndedAt: 2025-02-09 22:16:58 -0500 (Sun, 09 Feb 2025) EllapsedTime: 10.2 seconds RetCode: 0 Status: OK PackageFile: gscreend_1.21.0.tgz PackageFileSize: 3.171 MiB