Package: gscreend Version: 1.21.0 Command: /Library/Frameworks/R.framework/Resources/bin/R CMD INSTALL gscreend StartedAt: 2025-02-09 15:09:10 -0500 (Sun, 09 Feb 2025) EndedAt: 2025-02-09 15:09:19 -0500 (Sun, 09 Feb 2025) EllapsedTime: 9.2 seconds RetCode: 0 Status: OK