Package: gscreend Version: 1.21.0 Command: E:\biocbuild\bbs-3.21-bioc\R\bin\R.exe CMD INSTALL gscreend StartedAt: 2025-02-12 16:10:07 -0500 (Wed, 12 Feb 2025) EndedAt: 2025-02-12 16:10:50 -0500 (Wed, 12 Feb 2025) EllapsedTime: 43.2 seconds RetCode: 0 Status: OK