Package: gsean Version: 1.27.0 Command: /Library/Frameworks/R.framework/Resources/bin/R CMD build --keep-empty-dirs --no-resave-data gsean StartedAt: 2025-02-09 16:33:21 -0500 (Sun, 09 Feb 2025) EndedAt: 2025-02-09 16:33:35 -0500 (Sun, 09 Feb 2025) EllapsedTime: 14.1 seconds RetCode: 1 Status: ERROR PackageFile: None PackageFileSize: NA