Package: gsean Version: 1.27.0 Command: /home/biocbuild/R/R/bin/R CMD build --keep-empty-dirs --no-resave-data gsean StartedAt: 2025-01-28 23:26:02 -0000 (Tue, 28 Jan 2025) EndedAt: 2025-01-28 23:26:43 -0000 (Tue, 28 Jan 2025) EllapsedTime: 41.0 seconds RetCode: 1 Status: ERROR PackageFile: None PackageFileSize: NA