Package: gsean Version: 1.27.0 Command: /home/biocbuild/R/R/bin/R CMD INSTALL gsean StartedAt: 2025-01-29 20:21:37 -0000 (Wed, 29 Jan 2025) EndedAt: 2025-01-29 20:22:08 -0000 (Wed, 29 Jan 2025) EllapsedTime: 31.2 seconds RetCode: 0 Status: OK