Package: gsean Version: 1.27.0 Command: /Library/Frameworks/R.framework/Resources/bin/R CMD INSTALL gsean StartedAt: 2025-02-09 15:35:44 -0500 (Sun, 09 Feb 2025) EndedAt: 2025-02-09 15:36:17 -0500 (Sun, 09 Feb 2025) EllapsedTime: 32.6 seconds RetCode: 0 Status: OK