Package: gsean Version: 1.27.0 Command: /home/biocbuild/bbs-3.21-bioc/R/bin/R CMD build --keep-empty-dirs --no-resave-data gsean StartedAt: 2025-02-04 17:30:47 -0500 (Tue, 04 Feb 2025) EndedAt: 2025-02-04 17:31:46 -0500 (Tue, 04 Feb 2025) EllapsedTime: 59.0 seconds RetCode: 0 Status: OK PackageFile: gsean_1.27.0.tar.gz PackageFileSize: 1.535 MiB