Package: gsean Version: 1.27.0 Command: /home/biocbuild/bbs-3.21-bioc/R/bin/R CMD check --install=check:gsean.install-out.txt --library=/home/biocbuild/bbs-3.21-bioc/R/site-library --timings gsean_1.27.0.tar.gz StartedAt: 2025-02-04 22:56:36 -0500 (Tue, 04 Feb 2025) EndedAt: 2025-02-04 23:00:46 -0500 (Tue, 04 Feb 2025) EllapsedTime: 250.5 seconds RetCode: 0 Status: OK CheckDir: gsean.Rcheck Warnings: 0