Package: gsean Version: 1.27.0 Command: /home/biocbuild/bbs-3.21-bioc/R/bin/R CMD INSTALL gsean StartedAt: 2025-02-09 15:31:29 -0500 (Sun, 09 Feb 2025) EndedAt: 2025-02-09 15:31:52 -0500 (Sun, 09 Feb 2025) EllapsedTime: 22.9 seconds RetCode: 0 Status: OK