Package: gsean Version: 1.27.0 Command: E:\biocbuild\bbs-3.21-bioc\R\bin\R.exe CMD INSTALL gsean StartedAt: 2025-02-09 15:59:44 -0500 (Sun, 09 Feb 2025) EndedAt: 2025-02-09 16:00:13 -0500 (Sun, 09 Feb 2025) EllapsedTime: 29.6 seconds RetCode: 0 Status: OK