Package: gtrellis Version: 1.39.0 Command: /Library/Frameworks/R.framework/Resources/bin/R CMD build --keep-empty-dirs --no-resave-data gtrellis StartedAt: 2025-02-09 17:00:21 -0500 (Sun, 09 Feb 2025) EndedAt: 2025-02-09 17:03:15 -0500 (Sun, 09 Feb 2025) EllapsedTime: 174.1 seconds RetCode: 0 Status: OK PackageFile: gtrellis_1.39.0.tar.gz PackageFileSize: 4.033 MiB