Package: gtrellis Version: 1.39.0 Command: /Library/Frameworks/R.framework/Resources/bin/R CMD INSTALL gtrellis StartedAt: 2025-02-09 15:09:18 -0500 (Sun, 09 Feb 2025) EndedAt: 2025-02-09 15:09:33 -0500 (Sun, 09 Feb 2025) EllapsedTime: 15.1 seconds RetCode: 0 Status: OK