Package: gtrellis Version: 1.39.0 Command: /home/biocbuild/bbs-3.21-bioc/R/bin/R CMD build --keep-empty-dirs --no-resave-data gtrellis StartedAt: 2025-02-09 17:33:22 -0500 (Sun, 09 Feb 2025) EndedAt: 2025-02-09 17:35:50 -0500 (Sun, 09 Feb 2025) EllapsedTime: 148.3 seconds RetCode: 0 Status: OK PackageFile: gtrellis_1.39.0.tar.gz PackageFileSize: 2.744 MiB