Package: gtrellis Version: 1.39.0 Command: chmod a+r gtrellis -R && E:\biocbuild\bbs-3.21-bioc\R\bin\R.exe CMD build --keep-empty-dirs --no-resave-data gtrellis StartedAt: 2025-02-12 19:12:59 -0500 (Wed, 12 Feb 2025) EndedAt: 2025-02-12 19:16:36 -0500 (Wed, 12 Feb 2025) EllapsedTime: 216.4 seconds RetCode: 0 Status: OK PackageFile: gtrellis_1.39.0.tar.gz PackageFileSize: 1.409 MiB