Package: gtrellis Version: 1.39.0 Command: E:\biocbuild\bbs-3.21-bioc\R\bin\R.exe CMD check --no-multiarch --install=check:gtrellis.install-out.txt --library=E:\biocbuild\bbs-3.21-bioc\R\library --no-vignettes --timings gtrellis_1.39.0.tar.gz StartedAt: 2025-02-10 01:48:28 -0500 (Mon, 10 Feb 2025) EndedAt: 2025-02-10 01:50:50 -0500 (Mon, 10 Feb 2025) EllapsedTime: 142.2 seconds RetCode: 0 Status: OK CheckDir: gtrellis.Rcheck Warnings: 0