Package: gwascat Version: 2.39.0 Command: /home/biocbuild/R/R/bin/R CMD check --install=check:gwascat.install-out.txt --library=/home/biocbuild/R/R/site-library --no-vignettes --timings gwascat_2.39.0.tar.gz StartedAt: 2025-01-27 08:49:07 -0000 (Mon, 27 Jan 2025) EndedAt: 2025-01-27 08:58:24 -0000 (Mon, 27 Jan 2025) EllapsedTime: 557.4 seconds RetCode: 0 Status: OK CheckDir: gwascat.Rcheck Warnings: 0