Package: gwascat Version: 2.39.0 Command: /home/biocbuild/R/R/bin/R CMD INSTALL gwascat StartedAt: 2025-01-29 20:22:45 -0000 (Wed, 29 Jan 2025) EndedAt: 2025-01-29 20:23:55 -0000 (Wed, 29 Jan 2025) EllapsedTime: 70.0 seconds RetCode: 0 Status: OK