Package: gwascat Version: 2.39.0 Command: /home/biocbuild/bbs-3.21-bioc/R/bin/R CMD build --keep-empty-dirs --no-resave-data gwascat StartedAt: 2025-02-04 17:32:21 -0500 (Tue, 04 Feb 2025) EndedAt: 2025-02-04 17:39:52 -0500 (Tue, 04 Feb 2025) EllapsedTime: 450.8 seconds RetCode: 0 Status: OK PackageFile: gwascat_2.39.0.tar.gz PackageFileSize: 33.95 MiB