Package: gwascat Version: 2.39.0 Command: /home/biocbuild/bbs-3.21-bioc/R/bin/R CMD INSTALL gwascat StartedAt: 2025-02-04 15:37:53 -0500 (Tue, 04 Feb 2025) EndedAt: 2025-02-04 15:38:44 -0500 (Tue, 04 Feb 2025) EllapsedTime: 51.7 seconds RetCode: 0 Status: OK