Package: gwascat Version: 2.39.0 Command: rm -rf gwascat.buildbin-libdir && mkdir gwascat.buildbin-libdir && E:\biocbuild\bbs-3.21-bioc\R\bin\R.exe CMD INSTALL --build --library=gwascat.buildbin-libdir gwascat_2.39.0.tar.gz StartedAt: 2025-02-05 08:05:44 -0500 (Wed, 05 Feb 2025) EndedAt: 2025-02-05 08:07:05 -0500 (Wed, 05 Feb 2025) EllapsedTime: 81.6 seconds RetCode: 0 Status: OK PackageFile: gwascat_2.39.0.zip PackageFileSize: 33.88 MiB