Package: gwasurvivr Version: 1.25.0 Command: /Library/Frameworks/R.framework/Resources/bin/R CMD build --keep-empty-dirs --no-resave-data gwasurvivr StartedAt: 2025-02-10 16:34:30 -0500 (Mon, 10 Feb 2025) EndedAt: 2025-02-10 16:35:34 -0500 (Mon, 10 Feb 2025) EllapsedTime: 63.6 seconds RetCode: 0 Status: OK PackageFile: gwasurvivr_1.25.0.tar.gz PackageFileSize: 343.2 KiB