Package: gwasurvivr Version: 1.25.0 Command: /Library/Frameworks/R.framework/Resources/bin/R CMD check --install=check:gwasurvivr.install-out.txt --library=/Library/Frameworks/R.framework/Resources/library --no-vignettes --timings gwasurvivr_1.25.0.tar.gz StartedAt: 2025-02-10 19:36:11 -0500 (Mon, 10 Feb 2025) EndedAt: 2025-02-10 19:38:40 -0500 (Mon, 10 Feb 2025) EllapsedTime: 148.8 seconds RetCode: 0 Status: OK CheckDir: gwasurvivr.Rcheck Warnings: 0