Package: gwasurvivr Version: 1.25.0 Command: /Library/Frameworks/R.framework/Resources/bin/R CMD check --install=check:gwasurvivr.install-out.txt --library=/Library/Frameworks/R.framework/Resources/library --no-vignettes --timings gwasurvivr_1.25.0.tar.gz StartedAt: 2025-02-10 21:32:50 -0500 (Mon, 10 Feb 2025) EndedAt: 2025-02-10 21:40:06 -0500 (Mon, 10 Feb 2025) EllapsedTime: 436.7 seconds RetCode: 0 Status: OK CheckDir: gwasurvivr.Rcheck Warnings: 0