Package: gwasurvivr Version: 1.25.0 Command: /Library/Frameworks/R.framework/Resources/bin/R CMD INSTALL gwasurvivr StartedAt: 2025-02-10 15:36:09 -0500 (Mon, 10 Feb 2025) EndedAt: 2025-02-10 15:37:09 -0500 (Mon, 10 Feb 2025) EllapsedTime: 59.7 seconds RetCode: 0 Status: OK