Package: gwasurvivr Version: 1.25.0 Command: /home/biocbuild/bbs-3.21-bioc/R/bin/R CMD INSTALL gwasurvivr StartedAt: 2025-02-10 15:51:11 -0500 (Mon, 10 Feb 2025) EndedAt: 2025-02-10 15:51:57 -0500 (Mon, 10 Feb 2025) EllapsedTime: 45.6 seconds RetCode: 0 Status: OK