Package: gwasurvivr Version: 1.25.0 Command: rm -rf gwasurvivr.buildbin-libdir && mkdir gwasurvivr.buildbin-libdir && E:\biocbuild\bbs-3.21-bioc\R\bin\R.exe CMD INSTALL --build --library=gwasurvivr.buildbin-libdir gwasurvivr_1.25.0.tar.gz StartedAt: 2025-02-11 08:07:04 -0500 (Tue, 11 Feb 2025) EndedAt: 2025-02-11 08:08:09 -0500 (Tue, 11 Feb 2025) EllapsedTime: 64.7 seconds RetCode: 0 Status: OK PackageFile: gwasurvivr_1.25.0.zip PackageFileSize: 418.7 KiB