Package: gwasurvivr Version: 1.25.0 Command: chmod a+r gwasurvivr -R && E:\biocbuild\bbs-3.21-bioc\R\bin\R.exe CMD build --keep-empty-dirs --no-resave-data gwasurvivr StartedAt: 2025-02-10 19:20:16 -0500 (Mon, 10 Feb 2025) EndedAt: 2025-02-10 19:23:21 -0500 (Mon, 10 Feb 2025) EllapsedTime: 185.0 seconds RetCode: 0 Status: OK PackageFile: gwasurvivr_1.25.0.tar.gz PackageFileSize: 343.6 KiB