Package: gypsum Version: 1.3.0 Command: /Library/Frameworks/R.framework/Resources/bin/R CMD build --keep-empty-dirs --no-resave-data gypsum StartedAt: 2025-02-04 16:34:47 -0500 (Tue, 04 Feb 2025) EndedAt: 2025-02-04 16:34:52 -0500 (Tue, 04 Feb 2025) EllapsedTime: 5.1 seconds RetCode: 0 Status: OK PackageFile: gypsum_1.3.0.tar.gz PackageFileSize: 274.5 KiB