Package: gypsum Version: 1.3.0 Command: /Library/Frameworks/R.framework/Resources/bin/R CMD INSTALL gypsum StartedAt: 2025-02-04 15:03:46 -0500 (Tue, 04 Feb 2025) EndedAt: 2025-02-04 15:03:48 -0500 (Tue, 04 Feb 2025) EllapsedTime: 1.4 seconds RetCode: 0 Status: OK