Package: gypsum Version: 1.3.0 Command: /home/biocbuild/R/R/bin/R CMD INSTALL gypsum StartedAt: 2025-01-29 19:36:17 -0000 (Wed, 29 Jan 2025) EndedAt: 2025-01-29 19:36:30 -0000 (Wed, 29 Jan 2025) EllapsedTime: 13.4 seconds RetCode: 0 Status: OK