Package: gypsum Version: 1.3.0 Command: rm -rf gypsum.buildbin-libdir && mkdir gypsum.buildbin-libdir && /Users/biocbuild/BBS/utils/build-universal.sh gypsum_1.3.0.tar.gz /Library/Frameworks/R.framework/Resources/bin/R gypsum.buildbin-libdir StartedAt: 2025-02-13 00:40:14 -0500 (Thu, 13 Feb 2025) EndedAt: 2025-02-13 00:40:23 -0500 (Thu, 13 Feb 2025) EllapsedTime: 9.2 seconds RetCode: 0 Status: OK PackageFile: gypsum_1.3.0.tgz PackageFileSize: 421.3 KiB