Package: gypsum Version: 1.3.0 Command: /Library/Frameworks/R.framework/Resources/bin/R CMD check --install=check:gypsum.install-out.txt --library=/Library/Frameworks/R.framework/Resources/library --no-vignettes --timings gypsum_1.3.0.tar.gz StartedAt: 2025-02-12 20:59:57 -0500 (Wed, 12 Feb 2025) EndedAt: 2025-02-12 21:01:17 -0500 (Wed, 12 Feb 2025) EllapsedTime: 80.2 seconds RetCode: 0 Status: OK CheckDir: gypsum.Rcheck Warnings: 0