Package: gypsum Version: 1.3.0 Command: /Library/Frameworks/R.framework/Resources/bin/R CMD INSTALL gypsum StartedAt: 2025-02-09 15:08:02 -0500 (Sun, 09 Feb 2025) EndedAt: 2025-02-09 15:08:31 -0500 (Sun, 09 Feb 2025) EllapsedTime: 29.6 seconds RetCode: 0 Status: OK