Package: gypsum Version: 1.3.0 Command: /home/biocbuild/bbs-3.21-bioc/R/bin/R CMD INSTALL gypsum StartedAt: 2025-02-09 15:08:01 -0500 (Sun, 09 Feb 2025) EndedAt: 2025-02-09 15:08:18 -0500 (Sun, 09 Feb 2025) EllapsedTime: 16.8 seconds RetCode: 0 Status: OK