Package: gypsum Version: 1.3.0 Command: chmod a+r gypsum -R && E:\biocbuild\bbs-3.21-bioc\R\bin\R.exe CMD build --keep-empty-dirs --no-resave-data gypsum StartedAt: 2025-02-09 19:10:12 -0500 (Sun, 09 Feb 2025) EndedAt: 2025-02-09 19:10:32 -0500 (Sun, 09 Feb 2025) EllapsedTime: 20.0 seconds RetCode: 0 Status: OK PackageFile: gypsum_1.3.0.tar.gz PackageFileSize: 274.7 KiB