Package: gypsum Version: 1.3.0 Command: E:\biocbuild\bbs-3.21-bioc\R\bin\R.exe CMD check --no-multiarch --install=check:gypsum.install-out.txt --library=E:\biocbuild\bbs-3.21-bioc\R\library --no-vignettes --timings gypsum_1.3.0.tar.gz StartedAt: 2025-02-10 01:50:45 -0500 (Mon, 10 Feb 2025) EndedAt: 2025-02-10 01:51:51 -0500 (Mon, 10 Feb 2025) EllapsedTime: 65.6 seconds RetCode: 0 Status: OK CheckDir: gypsum.Rcheck Warnings: 0