Package: gypsum Version: 1.3.0 Command: E:\biocbuild\bbs-3.21-bioc\R\bin\R.exe CMD INSTALL gypsum StartedAt: 2025-02-09 15:29:30 -0500 (Sun, 09 Feb 2025) EndedAt: 2025-02-09 15:29:59 -0500 (Sun, 09 Feb 2025) EllapsedTime: 28.8 seconds RetCode: 0 Status: OK